﻿


BEGIN:VCALENDAR
VERSION:2.0
PRODID:-//Verlaine-sports - ECPv6.15.20//NONSGML v1.0//EN
CALSCALE:GREGORIAN
METHOD:PUBLISH
X-ORIGINAL-URL:https://verlaine-sports.be
X-WR-CALDESC:Évènements pour Verlaine-sports
REFRESH-INTERVAL;VALUE=DURATION:PT1H
X-Robots-Tag:noindex
X-PUBLISHED-TTL:PT1H
BEGIN:VTIMEZONE
TZID:Europe/Brussels
BEGIN:DAYLIGHT
TZOFFSETFROM:+0100
TZOFFSETTO:+0200
TZNAME:CEST
DTSTART:20220327T010000
END:DAYLIGHT
BEGIN:STANDARD
TZOFFSETFROM:+0200
TZOFFSETTO:+0100
TZNAME:CET
DTSTART:20221030T010000
END:STANDARD
BEGIN:DAYLIGHT
TZOFFSETFROM:+0100
TZOFFSETTO:+0200
TZNAME:CEST
DTSTART:20230326T010000
END:DAYLIGHT
BEGIN:STANDARD
TZOFFSETFROM:+0200
TZOFFSETTO:+0100
TZNAME:CET
DTSTART:20231029T010000
END:STANDARD
BEGIN:DAYLIGHT
TZOFFSETFROM:+0100
TZOFFSETTO:+0200
TZNAME:CEST
DTSTART:20240331T010000
END:DAYLIGHT
BEGIN:STANDARD
TZOFFSETFROM:+0200
TZOFFSETTO:+0100
TZNAME:CET
DTSTART:20241027T010000
END:STANDARD
END:VTIMEZONE
BEGIN:VEVENT
DTSTART;TZID=Europe/Brussels:20230326T080000
DTEND;TZID=Europe/Brussels:20230326T200000
DTSTAMP:20260423T051959
CREATED:20230307T151241Z
LAST-MODIFIED:20230307T151241Z
UID:3612-1679817600-1679860800@verlaine-sports.be
SUMMARY:Tournoi BC Villers/Wanze
DESCRIPTION:Le BC Villers/Wanze organise son tournoi amical\, TJA\, pour jeune le dimanche 26 mars \nN’oubliez pas de vous inscrire.\nIl reste encore pas mal de places.\nInscriptions via le formulaire en ligne https://forms.gle/XJrq8gPuULtk4fxy6 jusqu’au vendredi 17 mars inclus.\nÉvènement Facebook à l’adresse https://fb.me/e/4RjFiFbhl.
URL:https://verlaine-sports.be/planning/tournoi-bc-villers-wanze/
END:VEVENT
END:VCALENDAR