﻿


BEGIN:VCALENDAR
VERSION:2.0
PRODID:-//Verlaine-sports - ECPv6.15.20//NONSGML v1.0//EN
CALSCALE:GREGORIAN
METHOD:PUBLISH
X-ORIGINAL-URL:https://verlaine-sports.be
X-WR-CALDESC:Évènements pour Verlaine-sports
REFRESH-INTERVAL;VALUE=DURATION:PT1H
X-Robots-Tag:noindex
X-PUBLISHED-TTL:PT1H
BEGIN:VTIMEZONE
TZID:Europe/Brussels
BEGIN:DAYLIGHT
TZOFFSETFROM:+0100
TZOFFSETTO:+0200
TZNAME:CEST
DTSTART:20220327T010000
END:DAYLIGHT
BEGIN:STANDARD
TZOFFSETFROM:+0200
TZOFFSETTO:+0100
TZNAME:CET
DTSTART:20221030T010000
END:STANDARD
BEGIN:DAYLIGHT
TZOFFSETFROM:+0100
TZOFFSETTO:+0200
TZNAME:CEST
DTSTART:20230326T010000
END:DAYLIGHT
BEGIN:STANDARD
TZOFFSETFROM:+0200
TZOFFSETTO:+0100
TZNAME:CET
DTSTART:20231029T010000
END:STANDARD
BEGIN:DAYLIGHT
TZOFFSETFROM:+0100
TZOFFSETTO:+0200
TZNAME:CEST
DTSTART:20240331T010000
END:DAYLIGHT
BEGIN:STANDARD
TZOFFSETFROM:+0200
TZOFFSETTO:+0100
TZNAME:CET
DTSTART:20241027T010000
END:STANDARD
END:VTIMEZONE
BEGIN:VEVENT
DTSTART;TZID=Europe/Brussels:20230401T083000
DTEND;TZID=Europe/Brussels:20230401T110000
DTSTAMP:20260423T043731
CREATED:20221019T100230Z
LAST-MODIFIED:20221019T100230Z
UID:3527-1680337800-1680346800@verlaine-sports.be
SUMMARY:BC Verlaine - Jeunes - U12
DESCRIPTION:
URL:https://verlaine-sports.be/planning/bc-verlaine-jeunes-u12-12/
END:VEVENT
BEGIN:VEVENT
DTSTART;TZID=Europe/Brussels:20230401T110000
DTEND;TZID=Europe/Brussels:20230401T130000
DTSTAMP:20260423T043731
CREATED:20221019T100254Z
LAST-MODIFIED:20221019T100254Z
UID:3529-1680346800-1680354000@verlaine-sports.be
SUMMARY:BC Verlaine - Jeunes - U10
DESCRIPTION:
URL:https://verlaine-sports.be/planning/bc-verlaine-jeunes-u10-14/
END:VEVENT
BEGIN:VEVENT
DTSTART;TZID=Europe/Brussels:20230401T110000
DTEND;TZID=Europe/Brussels:20230401T130000
DTSTAMP:20260423T043731
CREATED:20221019T100316Z
LAST-MODIFIED:20221019T100316Z
UID:3531-1680346800-1680354000@verlaine-sports.be
SUMMARY:BC Verlaine - Jeunes - U8
DESCRIPTION:
URL:https://verlaine-sports.be/planning/bc-verlaine-jeunes-u8-7/
END:VEVENT
BEGIN:VEVENT
DTSTART;TZID=Europe/Brussels:20230401T130000
DTEND;TZID=Europe/Brussels:20230401T150000
DTSTAMP:20260423T043731
CREATED:20221019T100347Z
LAST-MODIFIED:20221019T100347Z
UID:3533-1680354000-1680361200@verlaine-sports.be
SUMMARY:BC Verlaine - Jeunes - U10
DESCRIPTION:
URL:https://verlaine-sports.be/planning/bc-verlaine-jeunes-u10-15/
END:VEVENT
BEGIN:VEVENT
DTSTART;TZID=Europe/Brussels:20230401T130000
DTEND;TZID=Europe/Brussels:20230401T150000
DTSTAMP:20260423T043731
CREATED:20221019T100420Z
LAST-MODIFIED:20221019T100420Z
UID:3535-1680354000-1680361200@verlaine-sports.be
SUMMARY:BC Verlaine - Jeunes - U7
DESCRIPTION:
URL:https://verlaine-sports.be/planning/bc-verlaine-jeunes-u7-7/
END:VEVENT
BEGIN:VEVENT
DTSTART;TZID=Europe/Brussels:20230401T170000
DTEND;TZID=Europe/Brussels:20230401T233000
DTSTAMP:20260423T043731
CREATED:20221019T100534Z
LAST-MODIFIED:20221019T100534Z
UID:3537-1680368400-1680391800@verlaine-sports.be
SUMMARY:TT Saint-Georges - Championnat
DESCRIPTION:
URL:https://verlaine-sports.be/planning/tt-saint-georges-championnat-35/
END:VEVENT
END:VCALENDAR