﻿


BEGIN:VCALENDAR
VERSION:2.0
PRODID:-//Verlaine-sports - ECPv6.15.20//NONSGML v1.0//EN
CALSCALE:GREGORIAN
METHOD:PUBLISH
X-WR-CALNAME:Verlaine-sports
X-ORIGINAL-URL:https://verlaine-sports.be
X-WR-CALDESC:Évènements pour Verlaine-sports
REFRESH-INTERVAL;VALUE=DURATION:PT1H
X-Robots-Tag:noindex
X-PUBLISHED-TTL:PT1H
BEGIN:VTIMEZONE
TZID:Europe/Brussels
BEGIN:DAYLIGHT
TZOFFSETFROM:+0100
TZOFFSETTO:+0200
TZNAME:CEST
DTSTART:20220327T010000
END:DAYLIGHT
BEGIN:STANDARD
TZOFFSETFROM:+0200
TZOFFSETTO:+0100
TZNAME:CET
DTSTART:20221030T010000
END:STANDARD
BEGIN:DAYLIGHT
TZOFFSETFROM:+0100
TZOFFSETTO:+0200
TZNAME:CEST
DTSTART:20230326T010000
END:DAYLIGHT
BEGIN:STANDARD
TZOFFSETFROM:+0200
TZOFFSETTO:+0100
TZNAME:CET
DTSTART:20231029T010000
END:STANDARD
BEGIN:DAYLIGHT
TZOFFSETFROM:+0100
TZOFFSETTO:+0200
TZNAME:CEST
DTSTART:20240331T010000
END:DAYLIGHT
BEGIN:STANDARD
TZOFFSETFROM:+0200
TZOFFSETTO:+0100
TZNAME:CET
DTSTART:20241027T010000
END:STANDARD
END:VTIMEZONE
BEGIN:VEVENT
DTSTART;TZID=Europe/Brussels:20230416T120000
DTEND;TZID=Europe/Brussels:20230416T150000
DTSTAMP:20260423T131318
CREATED:20221019T100958Z
LAST-MODIFIED:20221019T100958Z
UID:3545-1681646400-1681657200@verlaine-sports.be
SUMMARY:BC Verlaine - BC Sprimont - P2DA
DESCRIPTION:
URL:https://verlaine-sports.be/planning/bc-verlaine-bc-sprimont-p2da/
END:VEVENT
BEGIN:VEVENT
DTSTART;TZID=Europe/Brussels:20230416T150000
DTEND;TZID=Europe/Brussels:20230416T170000
DTSTAMP:20260423T131318
CREATED:20221019T101056Z
LAST-MODIFIED:20221019T101056Z
UID:3547-1681657200-1681664400@verlaine-sports.be
SUMMARY:BC Verlaine - ABC Waremme B - P2DB
DESCRIPTION:
URL:https://verlaine-sports.be/planning/bc-verlaine-abc-waremme-b-p2db/
END:VEVENT
END:VCALENDAR