﻿


BEGIN:VCALENDAR
VERSION:2.0
PRODID:-//Verlaine-sports - ECPv6.15.20//NONSGML v1.0//EN
CALSCALE:GREGORIAN
METHOD:PUBLISH
X-ORIGINAL-URL:https://verlaine-sports.be
X-WR-CALDESC:Évènements pour Verlaine-sports
REFRESH-INTERVAL;VALUE=DURATION:PT1H
X-Robots-Tag:noindex
X-PUBLISHED-TTL:PT1H
BEGIN:VTIMEZONE
TZID:Europe/Brussels
BEGIN:DAYLIGHT
TZOFFSETFROM:+0100
TZOFFSETTO:+0200
TZNAME:CEST
DTSTART:20220327T010000
END:DAYLIGHT
BEGIN:STANDARD
TZOFFSETFROM:+0200
TZOFFSETTO:+0100
TZNAME:CET
DTSTART:20221030T010000
END:STANDARD
BEGIN:DAYLIGHT
TZOFFSETFROM:+0100
TZOFFSETTO:+0200
TZNAME:CEST
DTSTART:20230326T010000
END:DAYLIGHT
BEGIN:STANDARD
TZOFFSETFROM:+0200
TZOFFSETTO:+0100
TZNAME:CET
DTSTART:20231029T010000
END:STANDARD
BEGIN:DAYLIGHT
TZOFFSETFROM:+0100
TZOFFSETTO:+0200
TZNAME:CEST
DTSTART:20240331T010000
END:DAYLIGHT
BEGIN:STANDARD
TZOFFSETFROM:+0200
TZOFFSETTO:+0100
TZNAME:CET
DTSTART:20241027T010000
END:STANDARD
END:VTIMEZONE
BEGIN:VEVENT
DTSTART;TZID=Europe/Brussels:20230115T100000
DTEND;TZID=Europe/Brussels:20230115T140000
DTSTAMP:20260422T141350
CREATED:20221019T092905Z
LAST-MODIFIED:20221019T092905Z
UID:3445-1673776800-1673791200@verlaine-sports.be
SUMMARY:Passage ceinture Karaté
DESCRIPTION:
URL:https://verlaine-sports.be/planning/passage-ceinture-karate/
END:VEVENT
BEGIN:VEVENT
DTSTART;TZID=Europe/Brussels:20230120T183000
DTEND;TZID=Europe/Brussels:20230120T233000
DTSTAMP:20260422T141350
CREATED:20221019T092959Z
LAST-MODIFIED:20221019T092959Z
UID:3447-1674239400-1674257400@verlaine-sports.be
SUMMARY:TT Saint-Georges - Championnat
DESCRIPTION:
URL:https://verlaine-sports.be/planning/tt-saint-georges-championnat-27/
END:VEVENT
BEGIN:VEVENT
DTSTART;TZID=Europe/Brussels:20230120T203000
DTEND;TZID=Europe/Brussels:20230120T230000
DTSTAMP:20260422T141350
CREATED:20221019T093145Z
LAST-MODIFIED:20221019T093145Z
UID:3449-1674246600-1674255600@verlaine-sports.be
SUMMARY:Verlaine Corpo
DESCRIPTION:
URL:https://verlaine-sports.be/planning/verlaine-corpo-4/
END:VEVENT
BEGIN:VEVENT
DTSTART;TZID=Europe/Brussels:20230121T083000
DTEND;TZID=Europe/Brussels:20230121T110000
DTSTAMP:20260422T141350
CREATED:20221019T093232Z
LAST-MODIFIED:20221019T093232Z
UID:3451-1674289800-1674298800@verlaine-sports.be
SUMMARY:BC Verlaine - Jeunes - U12
DESCRIPTION:
URL:https://verlaine-sports.be/planning/bc-verlaine-jeunes-u12-6/
END:VEVENT
BEGIN:VEVENT
DTSTART;TZID=Europe/Brussels:20230121T110000
DTEND;TZID=Europe/Brussels:20230121T130000
DTSTAMP:20260422T141350
CREATED:20221019T093307Z
LAST-MODIFIED:20221019T093307Z
UID:3453-1674298800-1674306000@verlaine-sports.be
SUMMARY:BC Verlaine - Jeunes - U10
DESCRIPTION:
URL:https://verlaine-sports.be/planning/bc-verlaine-jeunes-u10-7/
END:VEVENT
BEGIN:VEVENT
DTSTART;TZID=Europe/Brussels:20230121T110000
DTEND;TZID=Europe/Brussels:20230121T130000
DTSTAMP:20260422T141350
CREATED:20221019T093406Z
LAST-MODIFIED:20221019T093406Z
UID:3457-1674298800-1674306000@verlaine-sports.be
SUMMARY:BC Verlaine - Jeunes - U8
DESCRIPTION:
URL:https://verlaine-sports.be/planning/bc-verlaine-jeunes-u8-4/
END:VEVENT
BEGIN:VEVENT
DTSTART;TZID=Europe/Brussels:20230121T130000
DTEND;TZID=Europe/Brussels:20230121T150000
DTSTAMP:20260422T141350
CREATED:20221019T093336Z
LAST-MODIFIED:20221019T093336Z
UID:3455-1674306000-1674313200@verlaine-sports.be
SUMMARY:BC Verlaine - Jeunes - U10
DESCRIPTION:
URL:https://verlaine-sports.be/planning/bc-verlaine-jeunes-u10-8/
END:VEVENT
BEGIN:VEVENT
DTSTART;TZID=Europe/Brussels:20230121T130000
DTEND;TZID=Europe/Brussels:20230121T150000
DTSTAMP:20260422T141350
CREATED:20221019T093440Z
LAST-MODIFIED:20221019T093440Z
UID:3459-1674306000-1674313200@verlaine-sports.be
SUMMARY:BC Verlaine - Jeunes - U7
DESCRIPTION:
URL:https://verlaine-sports.be/planning/bc-verlaine-jeunes-u7-4/
END:VEVENT
BEGIN:VEVENT
DTSTART;TZID=Europe/Brussels:20230121T170000
DTEND;TZID=Europe/Brussels:20230121T233000
DTSTAMP:20260422T141350
CREATED:20221019T093516Z
LAST-MODIFIED:20221019T093516Z
UID:3461-1674320400-1674343800@verlaine-sports.be
SUMMARY:TT Saint-Georges - Championnat
DESCRIPTION:
URL:https://verlaine-sports.be/planning/tt-saint-georges-championnat-28/
END:VEVENT
BEGIN:VEVENT
DTSTART;TZID=Europe/Brussels:20230122T100000
DTEND;TZID=Europe/Brussels:20230122T130000
DTSTAMP:20260422T141350
CREATED:20221019T093542Z
LAST-MODIFIED:20221019T093542Z
UID:3463-1674381600-1674392400@verlaine-sports.be
SUMMARY:BC Verlaine - Jeunes - U12
DESCRIPTION:
URL:https://verlaine-sports.be/planning/bc-verlaine-jeunes-u12-7/
END:VEVENT
BEGIN:VEVENT
DTSTART;TZID=Europe/Brussels:20230122T130000
DTEND;TZID=Europe/Brussels:20230122T150000
DTSTAMP:20260422T141350
CREATED:20221019T093651Z
LAST-MODIFIED:20221019T093651Z
UID:3465-1674392400-1674399600@verlaine-sports.be
SUMMARY:BC Verlaine - RBC Aubel B - P2DA
DESCRIPTION:
URL:https://verlaine-sports.be/planning/bc-verlaine-rbc-aubel-b-p2da/
END:VEVENT
BEGIN:VEVENT
DTSTART;TZID=Europe/Brussels:20230122T150000
DTEND;TZID=Europe/Brussels:20230122T170000
DTSTAMP:20260422T141350
CREATED:20221019T093808Z
LAST-MODIFIED:20221019T093808Z
UID:3467-1674399600-1674406800@verlaine-sports.be
SUMMARY:BC Verlaine - RBC Aywaille A - P2H
DESCRIPTION:
URL:https://verlaine-sports.be/planning/bc-verlaine-rbc-aywaille-a-p2h/
END:VEVENT
BEGIN:VEVENT
DTSTART;TZID=Europe/Brussels:20230126T120000
DTEND;TZID=Europe/Brussels:20230126T163000
DTSTAMP:20260422T141350
CREATED:20221019T094056Z
LAST-MODIFIED:20221019T094056Z
UID:3469-1674734400-1674750600@verlaine-sports.be
SUMMARY:Tournoi de Net-Volley
DESCRIPTION:
URL:https://verlaine-sports.be/planning/tournoi-de-net-volley-8/
END:VEVENT
END:VCALENDAR