﻿


BEGIN:VCALENDAR
VERSION:2.0
PRODID:-//Verlaine-sports - ECPv6.15.20//NONSGML v1.0//EN
CALSCALE:GREGORIAN
METHOD:PUBLISH
X-ORIGINAL-URL:https://verlaine-sports.be
X-WR-CALDESC:Évènements pour Verlaine-sports
REFRESH-INTERVAL;VALUE=DURATION:PT1H
X-Robots-Tag:noindex
X-PUBLISHED-TTL:PT1H
BEGIN:VTIMEZONE
TZID:Europe/Brussels
BEGIN:DAYLIGHT
TZOFFSETFROM:+0100
TZOFFSETTO:+0200
TZNAME:CEST
DTSTART:20220327T010000
END:DAYLIGHT
BEGIN:STANDARD
TZOFFSETFROM:+0200
TZOFFSETTO:+0100
TZNAME:CET
DTSTART:20221030T010000
END:STANDARD
BEGIN:DAYLIGHT
TZOFFSETFROM:+0100
TZOFFSETTO:+0200
TZNAME:CEST
DTSTART:20230326T010000
END:DAYLIGHT
BEGIN:STANDARD
TZOFFSETFROM:+0200
TZOFFSETTO:+0100
TZNAME:CET
DTSTART:20231029T010000
END:STANDARD
BEGIN:DAYLIGHT
TZOFFSETFROM:+0100
TZOFFSETTO:+0200
TZNAME:CEST
DTSTART:20240331T010000
END:DAYLIGHT
BEGIN:STANDARD
TZOFFSETFROM:+0200
TZOFFSETTO:+0100
TZNAME:CET
DTSTART:20241027T010000
END:STANDARD
END:VTIMEZONE
BEGIN:VEVENT
DTSTART;TZID=Europe/Brussels:20230304T180000
DTEND;TZID=Europe/Brussels:20230304T220000
DTSTAMP:20260423T000935
CREATED:20221019T095328Z
LAST-MODIFIED:20221019T095328Z
UID:3503-1677952800-1677967200@verlaine-sports.be
SUMMARY:BC Verlaine - Atlas Jupille - P2H
DESCRIPTION:
URL:https://verlaine-sports.be/planning/bc-verlaine-atlas-jupille-p2h/
END:VEVENT
BEGIN:VEVENT
DTSTART;TZID=Europe/Brussels:20230305T120000
DTEND;TZID=Europe/Brussels:20230305T150000
DTSTAMP:20260423T000935
CREATED:20221019T095438Z
LAST-MODIFIED:20221019T095438Z
UID:3505-1678017600-1678028400@verlaine-sports.be
SUMMARY:BC Verlaine - Pepinster East Bel. - P2DA
DESCRIPTION:
URL:https://verlaine-sports.be/planning/bc-verlaine-pepinster-east-bel-p2da/
END:VEVENT
BEGIN:VEVENT
DTSTART;TZID=Europe/Brussels:20230310T183000
DTEND;TZID=Europe/Brussels:20230310T233000
DTSTAMP:20260423T000935
CREATED:20221019T095529Z
LAST-MODIFIED:20221019T095529Z
UID:3507-1678473000-1678491000@verlaine-sports.be
SUMMARY:TT Saint-Georges - Championnat
DESCRIPTION:
URL:https://verlaine-sports.be/planning/tt-saint-georges-championnat-33/
END:VEVENT
BEGIN:VEVENT
DTSTART;TZID=Europe/Brussels:20230310T210000
DTEND;TZID=Europe/Brussels:20230310T230000
DTSTAMP:20260423T000935
CREATED:20230307T150641Z
LAST-MODIFIED:20230307T150641Z
UID:3603-1678482000-1678489200@verlaine-sports.be
SUMMARY:BC Verlaine Corpo
DESCRIPTION:
URL:https://verlaine-sports.be/planning/bc-verlaine-corpo-6/
END:VEVENT
BEGIN:VEVENT
DTSTART;TZID=Europe/Brussels:20230311T083000
DTEND;TZID=Europe/Brussels:20230311T110000
DTSTAMP:20260423T000935
CREATED:20221019T095604Z
LAST-MODIFIED:20221019T095604Z
UID:3509-1678523400-1678532400@verlaine-sports.be
SUMMARY:BC Verlaine - Jeunes - U12
DESCRIPTION:
URL:https://verlaine-sports.be/planning/bc-verlaine-jeunes-u12-10/
END:VEVENT
BEGIN:VEVENT
DTSTART;TZID=Europe/Brussels:20230311T110000
DTEND;TZID=Europe/Brussels:20230311T130000
DTSTAMP:20260423T000935
CREATED:20221019T095633Z
LAST-MODIFIED:20221019T095633Z
UID:3511-1678532400-1678539600@verlaine-sports.be
SUMMARY:BC Verlaine - Jeunes - U10
DESCRIPTION:
URL:https://verlaine-sports.be/planning/bc-verlaine-jeunes-u10-12/
END:VEVENT
BEGIN:VEVENT
DTSTART;TZID=Europe/Brussels:20230311T110000
DTEND;TZID=Europe/Brussels:20230311T130000
DTSTAMP:20260423T000935
CREATED:20221019T095727Z
LAST-MODIFIED:20221019T095727Z
UID:3515-1678532400-1678539600@verlaine-sports.be
SUMMARY:BC Verlaine - Jeunes - U8
DESCRIPTION:
URL:https://verlaine-sports.be/planning/bc-verlaine-jeunes-u8-6/
END:VEVENT
BEGIN:VEVENT
DTSTART;TZID=Europe/Brussels:20230311T130000
DTEND;TZID=Europe/Brussels:20230311T150000
DTSTAMP:20260423T000935
CREATED:20221019T095658Z
LAST-MODIFIED:20221019T095658Z
UID:3513-1678539600-1678546800@verlaine-sports.be
SUMMARY:BC Verlaine - Jeunes - U10
DESCRIPTION:
URL:https://verlaine-sports.be/planning/bc-verlaine-jeunes-u10-13/
END:VEVENT
BEGIN:VEVENT
DTSTART;TZID=Europe/Brussels:20230311T130000
DTEND;TZID=Europe/Brussels:20230311T150000
DTSTAMP:20260423T000935
CREATED:20221019T095747Z
LAST-MODIFIED:20221019T095747Z
UID:3517-1678539600-1678546800@verlaine-sports.be
SUMMARY:BC Verlaine - Jeunes - U7
DESCRIPTION:
URL:https://verlaine-sports.be/planning/bc-verlaine-jeunes-u7-6/
END:VEVENT
BEGIN:VEVENT
DTSTART;TZID=Europe/Brussels:20230311T170000
DTEND;TZID=Europe/Brussels:20230311T233000
DTSTAMP:20260423T000935
CREATED:20221019T095828Z
LAST-MODIFIED:20221019T095828Z
UID:3519-1678554000-1678577400@verlaine-sports.be
SUMMARY:TT Saint-Georges - Championnat
DESCRIPTION:
URL:https://verlaine-sports.be/planning/tt-saint-georges-championnat-34/
END:VEVENT
BEGIN:VEVENT
DTSTART;TZID=Europe/Brussels:20230312T100000
DTEND;TZID=Europe/Brussels:20230312T130000
DTSTAMP:20260423T000935
CREATED:20221019T095902Z
LAST-MODIFIED:20221019T095902Z
UID:3521-1678615200-1678626000@verlaine-sports.be
SUMMARY:BC Verlaine - Jeunes - U12
DESCRIPTION:
URL:https://verlaine-sports.be/planning/bc-verlaine-jeunes-u12-11/
END:VEVENT
BEGIN:VEVENT
DTSTART;TZID=Europe/Brussels:20230317T210000
DTEND;TZID=Europe/Brussels:20230317T220000
DTSTAMP:20260423T000935
CREATED:20230307T150811Z
LAST-MODIFIED:20230307T150811Z
UID:3606-1679086800-1679090400@verlaine-sports.be
SUMMARY:Futsal : MF Ombret - Leverempli
DESCRIPTION:
URL:https://verlaine-sports.be/planning/futsal-mf-ombret-leverempli/
END:VEVENT
BEGIN:VEVENT
DTSTART;TZID=Europe/Brussels:20230318T100000
DTEND;TZID=Europe/Brussels:20230318T170000
DTSTAMP:20260423T000935
CREATED:20230307T150904Z
LAST-MODIFIED:20230307T150904Z
UID:3608-1679133600-1679158800@verlaine-sports.be
SUMMARY:Formation "Je Cours pour ma forme"
DESCRIPTION:
URL:https://verlaine-sports.be/planning/formation-je-cours-pour-ma-forme-6/
END:VEVENT
BEGIN:VEVENT
DTSTART;TZID=Europe/Brussels:20230319T140000
DTEND;TZID=Europe/Brussels:20230319T170000
DTSTAMP:20260423T000935
CREATED:20221019T100041Z
LAST-MODIFIED:20221019T100041Z
UID:3523-1679234400-1679245200@verlaine-sports.be
SUMMARY:BC Verlaine - Union Huy Basket - P2DB
DESCRIPTION:
URL:https://verlaine-sports.be/planning/bc-verlaine-union-huy-basket-p2db/
END:VEVENT
BEGIN:VEVENT
DTSTART;TZID=Europe/Brussels:20230321T120000
DTEND;TZID=Europe/Brussels:20230321T160000
DTSTAMP:20260423T000935
CREATED:20230307T150953Z
LAST-MODIFIED:20230307T150953Z
UID:3610-1679400000-1679414400@verlaine-sports.be
SUMMARY:Tournoi de Net-Volley
DESCRIPTION:
URL:https://verlaine-sports.be/planning/tournoi-de-net-volley-9/
END:VEVENT
BEGIN:VEVENT
DTSTART;TZID=Europe/Brussels:20230325T200000
DTEND;TZID=Europe/Brussels:20230325T220000
DTSTAMP:20260423T000935
CREATED:20221019T100147Z
LAST-MODIFIED:20230307T151125Z
UID:3525-1679774400-1679781600@verlaine-sports.be
SUMMARY:BC Verlaine - Herve-Battice C - P2DB
DESCRIPTION:
URL:https://verlaine-sports.be/planning/bc-verlaine-herve-battice-c-p2db/
END:VEVENT
BEGIN:VEVENT
DTSTART;TZID=Europe/Brussels:20230326T080000
DTEND;TZID=Europe/Brussels:20230326T200000
DTSTAMP:20260423T000935
CREATED:20230307T151241Z
LAST-MODIFIED:20230307T151241Z
UID:3612-1679817600-1679860800@verlaine-sports.be
SUMMARY:Tournoi BC Villers/Wanze
DESCRIPTION:Le BC Villers/Wanze organise son tournoi amical\, TJA\, pour jeune le dimanche 26 mars \nN’oubliez pas de vous inscrire.\nIl reste encore pas mal de places.\nInscriptions via le formulaire en ligne https://forms.gle/XJrq8gPuULtk4fxy6 jusqu’au vendredi 17 mars inclus.\nÉvènement Facebook à l’adresse https://fb.me/e/4RjFiFbhl.
URL:https://verlaine-sports.be/planning/tournoi-bc-villers-wanze/
END:VEVENT
BEGIN:VEVENT
DTSTART;TZID=Europe/Brussels:20230331T210000
DTEND;TZID=Europe/Brussels:20230331T230000
DTSTAMP:20260423T000935
CREATED:20230307T151403Z
LAST-MODIFIED:20230307T151403Z
UID:3614-1680296400-1680303600@verlaine-sports.be
SUMMARY:MF Verlaine - Celt'oise Visé
DESCRIPTION:
URL:https://verlaine-sports.be/planning/mf-verlaine-celtoise-vise/
END:VEVENT
END:VCALENDAR