﻿


BEGIN:VCALENDAR
VERSION:2.0
PRODID:-//Verlaine-sports - ECPv6.15.20//NONSGML v1.0//EN
CALSCALE:GREGORIAN
METHOD:PUBLISH
X-WR-CALNAME:Verlaine-sports
X-ORIGINAL-URL:https://verlaine-sports.be
X-WR-CALDESC:Évènements pour Verlaine-sports
REFRESH-INTERVAL;VALUE=DURATION:PT1H
X-Robots-Tag:noindex
X-PUBLISHED-TTL:PT1H
BEGIN:VTIMEZONE
TZID:Europe/Brussels
BEGIN:DAYLIGHT
TZOFFSETFROM:+0100
TZOFFSETTO:+0200
TZNAME:CEST
DTSTART:20220327T010000
END:DAYLIGHT
BEGIN:STANDARD
TZOFFSETFROM:+0200
TZOFFSETTO:+0100
TZNAME:CET
DTSTART:20221030T010000
END:STANDARD
BEGIN:DAYLIGHT
TZOFFSETFROM:+0100
TZOFFSETTO:+0200
TZNAME:CEST
DTSTART:20230326T010000
END:DAYLIGHT
BEGIN:STANDARD
TZOFFSETFROM:+0200
TZOFFSETTO:+0100
TZNAME:CET
DTSTART:20231029T010000
END:STANDARD
BEGIN:DAYLIGHT
TZOFFSETFROM:+0100
TZOFFSETTO:+0200
TZNAME:CEST
DTSTART:20240331T010000
END:DAYLIGHT
BEGIN:STANDARD
TZOFFSETFROM:+0200
TZOFFSETTO:+0100
TZNAME:CET
DTSTART:20241027T010000
END:STANDARD
END:VTIMEZONE
BEGIN:VEVENT
DTSTART;TZID=Europe/Brussels:20230913T190000
DTEND;TZID=Europe/Brussels:20230913T203000
DTSTAMP:20260424T021034
CREATED:20230911T130057Z
LAST-MODIFIED:20230911T130057Z
UID:3732-1694631600-1694637000@verlaine-sports.be
SUMMARY:BC Verlaine - RBC Ans
DESCRIPTION:Coupe de la Province U18 Elite
URL:https://verlaine-sports.be/planning/bc-verlaine-rbc-ans/
END:VEVENT
BEGIN:VEVENT
DTSTART;TZID=Europe/Brussels:20230914T183000
DTEND;TZID=Europe/Brussels:20230914T223000
DTSTAMP:20260424T021034
CREATED:20230911T130155Z
LAST-MODIFIED:20230911T130155Z
UID:3734-1694716200-1694730600@verlaine-sports.be
SUMMARY:Tournoi des commerçants de pétanque
DESCRIPTION:
URL:https://verlaine-sports.be/planning/tournoi-des-commercants-de-petanque/
END:VEVENT
BEGIN:VEVENT
DTSTART;TZID=Europe/Brussels:20230916T110000
DTEND;TZID=Europe/Brussels:20230916T170000
DTSTAMP:20260424T021034
CREATED:20230911T125824Z
LAST-MODIFIED:20230911T125923Z
UID:3730-1694862000-1694883600@verlaine-sports.be
SUMMARY:Fêtes des associations
DESCRIPTION:  \nDécouvrez cette événement
URL:https://verlaine-sports.be/planning/fetes-des-associations/
END:VEVENT
BEGIN:VEVENT
DTSTART;TZID=Europe/Brussels:20230917T100000
DTEND;TZID=Europe/Brussels:20230917T160000
DTSTAMP:20260424T021034
CREATED:20230911T130254Z
LAST-MODIFIED:20230911T130254Z
UID:3736-1694944800-1694966400@verlaine-sports.be
SUMMARY:Tournoi de Pétanque - Challenge Alain Frère
DESCRIPTION:
URL:https://verlaine-sports.be/planning/tournoi-de-petanque-challenge-alain-frere/
END:VEVENT
BEGIN:VEVENT
DTSTART;TZID=Europe/Brussels:20230917T130000
DTEND;TZID=Europe/Brussels:20230917T150000
DTSTAMP:20260424T021034
CREATED:20230911T130402Z
LAST-MODIFIED:20230911T130402Z
UID:3738-1694955600-1694962800@verlaine-sports.be
SUMMARY:BC Verlaine - Matchs Jeunes
DESCRIPTION:521036\n\nDIMANCHE\n17/09/23\n13.00\nBC VERLAINE A\nABC WAREMME C\nU 10 – MM B\n\n\n\n528036\n\nDIMANCHE\n17/09/23\n13.00\nBC VERLAINE B\nCONDROZ MODAVE BB B\nU 10 – MM I
URL:https://verlaine-sports.be/planning/bc-verlaine-matchs-jeunes/
END:VEVENT
BEGIN:VEVENT
DTSTART;TZID=Europe/Brussels:20230917T150000
DTEND;TZID=Europe/Brussels:20230917T170000
DTSTAMP:20260424T021034
CREATED:20230911T130502Z
LAST-MODIFIED:20230911T130502Z
UID:3740-1694962800-1694970000@verlaine-sports.be
SUMMARY:BC Verlaine U18 - Coupe AWBB
DESCRIPTION:535\n\nDIMANCHE\n17/09/23\n15.00\nBC VERLAINE\nNEXTGEN ACADEMY A\nCOUPE AWBB CADETS
URL:https://verlaine-sports.be/planning/bc-verlaine-u18-coupe-awbb/
END:VEVENT
BEGIN:VEVENT
DTSTART;TZID=Europe/Brussels:20230917T170000
DTEND;TZID=Europe/Brussels:20230917T190000
DTSTAMP:20260424T021034
CREATED:20230911T130819Z
LAST-MODIFIED:20230911T130819Z
UID:3743-1694970000-1694977200@verlaine-sports.be
SUMMARY:BC VERLAINE B	HENRI-CHAPELLE B	CPE PROV DAMES
DESCRIPTION:
URL:https://verlaine-sports.be/planning/bc-verlaine-bhenri-chapelle-bcpe-prov-dames/
END:VEVENT
BEGIN:VEVENT
DTSTART;TZID=Europe/Brussels:20230922T193000
DTEND;TZID=Europe/Brussels:20230922T233000
DTSTAMP:20260424T021034
CREATED:20230911T130948Z
LAST-MODIFIED:20230911T131020Z
UID:3745-1695411000-1695425400@verlaine-sports.be
SUMMARY:TT Saint-Georges
DESCRIPTION:Journée de championnat
URL:https://verlaine-sports.be/planning/tt-saint-georges-4/
END:VEVENT
BEGIN:VEVENT
DTSTART;TZID=Europe/Brussels:20230923T090000
DTEND;TZID=Europe/Brussels:20230923T150000
DTSTAMP:20260424T021034
CREATED:20230911T131221Z
LAST-MODIFIED:20230911T131221Z
UID:3749-1695459600-1695481200@verlaine-sports.be
SUMMARY:BC Verlaine - Jeunes
DESCRIPTION:610046\n\nSAMEDI\n23/09/23\n09.00\nBC VERLAINE\nALL. FLEMALLE B\nU 12 – DD\n\n\n\n501046\n\nSAMEDI\n23/09/23\n11.00\nBC VERLAINE\nROYAL BC WANZE A\nU 12 – MM B\n\n\n\n543046\n\nSAMEDI\n23/09/23\n13.00\nBC VERLAINE\nROYAL BC WANZE\nU 7 – MM D
URL:https://verlaine-sports.be/planning/bc-verlaine-jeunes/
END:VEVENT
BEGIN:VEVENT
DTSTART;TZID=Europe/Brussels:20230923T190000
DTEND;TZID=Europe/Brussels:20230923T233000
DTSTAMP:20260424T021034
CREATED:20230911T131116Z
LAST-MODIFIED:20230911T131116Z
UID:3747-1695495600-1695511800@verlaine-sports.be
SUMMARY:TT Saint-Georges
DESCRIPTION:Journée de championnat
URL:https://verlaine-sports.be/planning/tt-saint-georges-5/
END:VEVENT
BEGIN:VEVENT
DTSTART;TZID=Europe/Brussels:20230924T103000
DTEND;TZID=Europe/Brussels:20230924T190000
DTSTAMP:20260424T021034
CREATED:20230911T131324Z
LAST-MODIFIED:20230911T131347Z
UID:3751-1695551400-1695582000@verlaine-sports.be
SUMMARY:BC Verlaine
DESCRIPTION:430046\n\nDIMANCHE\n24/09/23\n10.30\nBC VERLAINE\nROYAL BC WANZE A\nU 18 – ELITES MM A\n\n\n\n528046\n\nDIMANCHE\n24/09/23\n13.00\nBC VERLAINE B\nROYAL BC WANZE B\nU 10 – MM I\n\n\n\n414046\n\nDIMANCHE\n24/09/23\n15.00\nBC VERLAINE A\nRBC ESNEUX B\nDD – DIVISION 2 A\n\n\n\n402046\n\nDIMANCHE\n24/09/23\n17.00\nBC VERLAINE\nRBC AUBEL B\nMM – DIVISION 2 A
URL:https://verlaine-sports.be/planning/bc-verlaine-2/
END:VEVENT
BEGIN:VEVENT
DTSTART;TZID=Europe/Brussels:20230929T210000
DTEND;TZID=Europe/Brussels:20230929T223000
DTSTAMP:20260424T021034
CREATED:20230911T131535Z
LAST-MODIFIED:20230911T131535Z
UID:3753-1696021200-1696026600@verlaine-sports.be
SUMMARY:BC Verlaine - Corpo
DESCRIPTION:Match de championnat
URL:https://verlaine-sports.be/planning/bc-verlaine-corpo-7/
END:VEVENT
BEGIN:VEVENT
DTSTART;TZID=Europe/Brussels:20230930T140000
DTEND;TZID=Europe/Brussels:20230930T183000
DTSTAMP:20260424T021034
CREATED:20230911T131702Z
LAST-MODIFIED:20230911T131702Z
UID:3755-1696082400-1696098600@verlaine-sports.be
SUMMARY:Volley-ball - Matchs internationaux
DESCRIPTION:
URL:https://verlaine-sports.be/planning/volley-ball-matchs-internationaux/
END:VEVENT
END:VCALENDAR